BEGIN:VCALENDAR
VERSION:2.0
PRODID:-//Contratero//ES
CALSCALE:GREGORIAN
METHOD:PUBLISH
BEGIN:VEVENT
UID:IPA 9/19@contratero.es
DTSTAMP:20260424T170401Z
DTSTART:20190329T235959
DTEND:20190330T005959
SUMMARY:Cierre: Adquisición\, actualización y soporte técnico de pr
DESCRIPTION:Adquisición\, actualización y soporte técnico de productos Microsoft con destino al Servicio Público de Empleo Estatal\\n\\nOrganismo: Dirección General del Servicio Público de Empleo Estatal\\n\\nVer en Contratero: https://contratero.es/contracts/IPA 9/19
URL:https://contratero.es/contracts/IPA 9/19
STATUS:CONFIRMED
BEGIN:VALARM
TRIGGER:-P1D
ACTION:DISPLAY
DESCRIPTION:Recordatorio: Adquisición\, actualización y s
END:VALARM
END:VEVENT
END:VCALENDAR